BEGIN:VCALENDAR
VERSION:2.0
PRODID:-//122.201.127.121//NONSGML kigkonsult.se iCalcreator 2.24.2//
CALSCALE:GREGORIAN
METHOD:PUBLISH
X-WR-CALNAME:Duncombe &amp\; Co
X-WR-CALDESC:Livestock &amp\; Real Estate Agents
X-FROM-URL:http://www.duncombes.com.au
X-WR-TIMEZONE:Australia/Sydney
BEGIN:VTIMEZONE
TZID:Australia/Sydney
X-LIC-LOCATION:Australia/Sydney
BEGIN:STANDARD
DTSTART:20210404T030000
TZOFFSETFROM:+1100
TZOFFSETTO:+1000
RDATE:20220403T030000
TZNAME:AEST
END:STANDARD
BEGIN:DAYLIGHT
DTSTART:20201004T020000
TZOFFSETFROM:+1000
TZOFFSETTO:+1100
RDATE:20211003T020000
TZNAME:AEDT
END:DAYLIGHT
END:VTIMEZONE
BEGIN:VEVENT
UID:ai1ec-2070@www.duncombes.com.au
DTSTAMP:20210228T213509Z
CATEGORIES:
CONTACT:
DESCRIPTION:<div id='et-boc' class='et-boc'>\n			\n			<div class='et_builder_inne
 r_content et_pb_gutters3'>\n				<p>Contact Jock for all your livestock selling
  needs.</p>\n\n			</div>\n			\n		</div>
DTSTART;TZID=Australia/Sydney:20200403T100000
SEQUENCE:0
SUMMARY:Weaner Cattle Sale
URL:http://www.duncombes.com.au/event/weaner-sale-3/
X-COST-TYPE:free
X-INSTANT-EVENT:1
END:VEVENT
END:VCALENDAR
